BEGIN:VCALENDAR
VERSION:2.0
PRODID:-//CEAR País Valencià - ECPv5.4.0.2//NONSGML v1.0//EN
CALSCALE:GREGORIAN
METHOD:PUBLISH
X-WR-CALNAME:CEAR País Valencià
X-ORIGINAL-URL:https://www.cearpv.org
X-WR-CALDESC:Eventos para CEAR País Valencià
BEGIN:VTIMEZONE
TZID:Europe/Madrid
BEGIN:DAYLIGHT
TZOFFSETFROM:+0100
TZOFFSETTO:+0200
TZNAME:CEST
DTSTART:20240331T010000
END:DAYLIGHT
BEGIN:STANDARD
TZOFFSETFROM:+0200
TZOFFSETTO:+0100
TZNAME:CET
DTSTART:20241027T010000
END:STANDARD
END:VTIMEZONE
BEGIN:VEVENT
DTSTART;TZID=Europe/Madrid:20240508T163000
DTEND;TZID=Europe/Madrid:20240508T190000
DTSTAMP:20260423T004917
CREATED:20240502T075323Z
LAST-MODIFIED:20240502T075323Z
UID:6547-1715185800-1715194800@www.cearpv.org
SUMMARY:CREANT SINÈRGIES: Trobada amb persones col·laboradores de CEAR València
DESCRIPTION:Des de CEAR a la seua delegació a València hem organitzat una jornada per poder trobar-nos amb tu. Si\, amb tu i amb totes les persones col·laboradores\, que contribuïu a fer possible que l’acollida i acompanyament de les persones que atenem siga la més dignificadora i humana possible. \nPer tot això i més\, des de CEAR hem creat aquesta jornada poder agraïr-vos a cada una de vosaltres la vostra\, energia\, implicació i compromís. A més contarem amb un espai per compartir sinergies i així conéixer les vostres inquietuds. \n\nLa jornada començarà a les 16:30 a la Plaça de l’Ajuntament.\nRuta per la València Republicana- a càrrec del professor Jorge Ramos-.\nFinal de Ruta al Ca Revolta.\nEspai de Trobada fins a les 19h.\n\nEsperem que vingues a trobar-nos\, per retrobar-nos. \nDimecres\, 8 de maig de 2024 16:30 hores Lloc: Porta de l’Ajuntament Pl. de l’Ajuntament\, 1\, Ciutat Vella\, 46002 València \nINSCRIU-TE AQUI! \n 
URL:https://www.cearpv.org/agenda/creant-sinergies-trobada-amb-persones-col%c2%b7laboradores-de-cear-valencia/
CATEGORIES:La Cultura Tu Refugio
ATTACH;FMTTYPE=image/png:https://www.cearpv.org/wp-content/uploads/2024/05/Captura-de-pantalla-2024-05-02-094926.png
END:VEVENT
END:VCALENDAR